Workbook

Sheet 申請書類一覧
B2: 申請書類一覧
C3: 申請書類に不備、不足のないよう下記一覧表で確認してください。
C4: チェック欄を活用して、該当するものを確認、作成し、確実に添付してください。
E5: ◎=全ての申請者が提出が必要 ◆=該当する場合は提出が必要
B6: 申請書類 | E6: 提出の 必要性 | F6: 様式 | G6: 提出時の ファイル形式 | H6: メール添付チェック ↓活用してください↓ | J6: 注意メッセージ
B7: 1 | C7: 助成金交付申請書（様式１） | E7: ◎ | F7: 指定 | G7: Excel | H7: ① | M7: ×入力エラーがあります。修正が必要です。
B8: 2 | C8: 事業計画書（別紙１） | E8: ◎ | F8: 指定 | G8: Excel | M8: ○入力エラーはありません。
B9: 3 | C9: 事業収支予算書（別紙２） | E9: ◎ | F9: 指定 | G9: Excel
B10: 4 | C10: 法人連絡票（別紙３） | E10: ◎ | F10: 指定 | G10: Excel
B11: 5 | C11: 添付資料
C12: A | D12: チェックリスト（別紙４） | E12: ◎ | F12: 指定 | G12: Excel
C13: B | D13: 暴力団排除に関する誓約事項（別紙５） | E13: ◎ | F13: 指定 | G13: Excel
C14: C | D14: 役員名簿 | E14: ◎ | F14: 任意 | G14: PDF | H14: ②
C15: D | D15: 提出日が属する年度の活動予算書及び事業計画書 | E15: ◎ | F15: 任意 | G15: PDF | H15: ③
C16: E | D16: 旅費に関する支給規程 | E16: ◆ | F16: 任意 | G16: PDF | H16: ④ | J16: =IF(別紙1・2!T167<>0,"旅費交通費を計上しています。支給規程の提出が必要です。","")
C17: F | D17: 謝金に関する支給規程 | E17: ◆ | F17: 任意 | G17: PDF | H17: ⑤ | J17: =IF(別紙1・2!T191<>0,"謝金を計上しています。支給規程の提出が必要です。","")
C18: G | D18: 人件費に関する支給規程 | E18: ◆ | F18: 任意 | G18: PDF | H18: ⑥ | J18: =IF(別紙1・2!T197<>0,"人件費を計上しています。支給規程の提出が必要です。","")
C19: H | D19: 備品の金額を証明するもの | E19: ◆ | F19: 任意 | G19: PDF | H19: ⑦ | J19: =IF(別紙1・2!T179<>0,"備品を計上しています。見積書の提出が必要です。","")
C20: J | D20: 高額品の金額を証明するもの | E20: ◆ | F20: 任意 | G20: PDF | H20: ⑧ | J20: 高額品(１回の支出が10万円以上)を計上した場合、見積書の提出が必要です
C21: K | D21: 高額品の購入に関する説明書(別紙6） | E21: ◆ | F21: 指定 | G21: Excel | H21: - | I21: ①と同じ | J21: 高額品(１回の支出が10万円以上)を計上した場合は、別紙6の提出が必要です
C22: L | D22: 委託費の金額を証明するもの | E22: ◆ | F22: 任意 | G22: PDF | H22: ⑨ | J22: =IF(別紙1・2!T185<>0,"委託費を計上しています。見積書の提出が必要です。","")
C23: M | D23: 連携先任意団体の規約・会則等 | E23: ◆ | F23: 任意 | G23: PDF | H23: ⑩ | J23: 別紙1事業計画書の「連携する団体等」に任意団体が含まれる場合は、提出が必要です。
C24: N | D24: 定款 | E24: ◎ | F24: 任意 | G24: PDF | H24: ⑪
C25: O | D25: 直近の年度の事業報告書 （設立初年度で事業報告書がない場合は不要） | E25: ◎ | F25: 任意 | G25: PDF | H25: ⑫

Sheet 様式1
B1: ■ 色付きセルのみ入力可能です。入力後は塗りつぶしが消えます。 | U1: =IF(OR(U6<>"",U9<>"",U11<>"",U13<>"",U21<>"",U32<>"",#REF!<>""),1,"") -> #REF!
B2: 様式第１号（第５条関係）
Y3: ○ | Z3: 特定非営利活動法人
B4: 令和８年度埼玉県NPO活動促進助成事業 | Z4: ＮＰＯ法人
B5: 助 成 金 交 付 申 請 書 | U5: ↓ エラーチェック101 | Z5: =_xlfn.CONCAT(K11," ",O11,K12) -> 特定非営利活動法人 〇〇〇〇
T6: ←日付を 「2026/00/00」 の形式で入力する | U6: =IF(P6="","日付が未入力","") -> 日付が未入力
B7: （あて先） | T7: 2026.3.27～4.30の間の日付のみ有効
B8: 埼 玉 県 知 事 | U8: ↓ エラーチェック102
J9: 所在地 | K9: 〒 | M9: - | T9: ← 半角数字 | U9: =IF(OR(L9="",N9="",K10=""),"住所情報が未入力","") -> 住所情報が未入力
T10: ← 住所を入力 | U10: ↓ エラーチェック103
J11: 法人名 | K11: 特定非営利活動法人 | O11: 〇〇〇〇 | T11: ← 法人名を入力（※「特非」or「NPO」は登記簿に合わせる） | U11: =IF(OR(K11="",O11=""),"法人名が未入力","")
K12: =IF(LEN(O11)>13,O11,"") | T12: 法人名が１４文字以上の場合自動的に2行目に表示されます | U12: ↓ エラーチェック104
J13: 代表者 | K13: (職名) | O13: (氏名) | T13: ← 職名と氏名を分けて入力する | U13: =IF(OR(M13="",Q13=""),"代表者名が未入力","") -> 代表者名が未入力
B15: 下記により、令和８年度埼玉県NPO活動促進助成事業の助成金の交付を受けたいので、
B16: 補助金等の交付手続き等に関する規則4条の規定により、関係書類を添えて提出します。
B18: 記
T19: ←助成金交付申請額は、様式1(事業区分)、別紙2、の入力後に自動計算される
C20: 1 | D20: 助成金交付申請額 | I20: =別紙1・2!T141 -> #N/A | L20: 円 | U20: ↓ エラーチェック105
C21: 2 | D21: 事業実施期間 | M21: ～ | T21: ← 「2026/00/00」 の形式で入力する | U21: =IF(OR(I21="",N21=""),"事業期間が未入力","") -> 事業期間が未入力
C22: 3 | D22: 事業計画書 | T22: 2026.7.1～2027.2.28の間の日付のみ有効
C23: 4 | D23: 事業収支予算書
C24: 5 | D24: 添付書類
D25: ア チェックリスト（別紙4）
D26: イ 暴力団排除に関する誓約事項（別紙5）
D27: ウ 役員名簿
D28: エ 提出日が属する年度の活動予算書及び事業計画書
D29: オ 見積書等、金額の妥当性を証明するもの
D30: カ その他知事が必要と認める資料
U31: ↓ エラーチェック106
C32: 事業名 | T32: ← 申請する事業名を入力する | U32: =IF(E32="","事業名が未入力","") -> 事業名が未入力
C33: 事業区分 | T33: ←プルダウンリストから「パートナーシップ支援事業」 「ステップアップ支援事業」「スタートアップ支援事業」のいずれか選択
C34: 事業費総額 | E34: =別紙1・2!T153 -> 0 | T34: ←経費総額は、様式1(事業区分)、別紙2の入力後に 自動計算される

Sheet 別紙1・2
B1: ■ 以下の黄色セル内を入力してください。 各項目について記載漏れのないよう、よくご確認のうえ作成してださい。 ■ AH列の数字「〇字/〇字」は、各行の「文字数/文字数の目安」です。＜〇字以内＞と記載されているセルは、「文字数の目安」を参考に、その文字数以内で簡潔・明瞭に記載してください。 ■ セル内で改行する場合は、「Alt」キー＋「Enter」キーを押して改行してください。
A2: ↓事業計画書ここから↓ | B2: 別紙１ | G2: 事業計画書
B3: １．申請する法人について | AH3: 字数/字数の目安
B4: 法人名 | J4: =様式1!K11&" "&様式1!O11 -> 特定非営利活動法人 〇〇〇〇
B5: 法人の設立登記日 | L5: 年 | O5: 月 | R5: 日 | AP5: 2026
B6: 法人設立前の団体の設立日 | L6: 年 | O6: 月 | R6: 日 | S6: ※NPO法人設立前に任意団体等で活動実績がある場合は記載する | AP6: 2025 | AQ6: 1 | AR6: 1 | AS6: 週
B7: ホームページ・SNS | G7: ホームページ | U7: Facebook | AP7: 2023 | AQ7: 3 | AR7: 3
G8: X （旧Twitter） | U8: YouTube | AP8: 2022 | AQ8: 4 | AR8: 4 | AS8: 新規
G9: Instagram | U9: その他 | AP9: 2021 | AQ9: 5 | AR9: 5 | AS9: 継続
B10: 活動歴・これまでの活動実績 ＜各活動90字以内＞ | G10: 活動① | AH10: =LEN(J10) -> 0
G11: 活動② | AH11: =LEN(J11) -> 0
G12: 活動③ | AH12: =LEN(J12) -> 0
G13: 活動④ | AH13: =LEN(J13) -> 0
G14: 活動⑤ | AH14: =LEN(J14) -> 0
B15: 助成金等の交付実績 | J15: 助成金等名称 | R15: 交付者 | Y15: 交付年月 | AD15: 交付額
G16: 助成金等① | AA16: 年 | AC16: 月 | AG16: 円 | AP16: 2017 | AQ16: 8 | AR16: 8
B17: ※ 2023年4月～2026年3月 に交付された助成金等を記載 ※ ５件以上ある場合は、 直近のものから５件を記載 | G17: 助成金等② | AA17: 年 | AC17: 月 | AG17: 円 | AP17: 2005 | AQ17: 9 | AR17: 9
G18: 助成金等③ | AA18: 年 | AC18: 月 | AG18: 円 | AP18: 2004 | AQ18: 10 | AR18: 10
G19: 助成金等④ | AA19: 年 | AC19: 月 | AG19: 円 | AP19: 2003 | AQ19: 11 | AR19: 11
G20: 助成金等⑤ | AA20: 年 | AC20: 月 | AG20: 円 | AP20: 2002 | AQ20: 12 | AR20: 12
B21: 申請する事業に従事する社員 | J21: 氏名 | R21: 役割
G22: 社員① | AP22: 2000 | AR22: 13
G23: 社員② | AP23: 1999 | AR23: 14
G24: 社員③ | AP24: 1998 | AR24: 15
G25: 社員④ | AR25: 16
G26: 社員⑤
G27: その他従事社員数 | Q27: 人
G28: 従事社員総数 | J28: =COUNTA(J22:Q26)+J27 -> 0 | Q28: 人 | AR28: 17
AR29: 18
B30: ２．申請する事業について | AR30: 19
B31: 事業名 | D31: =IF(様式1!E32<>"",様式1!E32,"") | P31: 事業区分 | R31: =IF(様式1!E33<>"",様式1!E33,"") | Y31: 事業分野 | AR31: 20 | AT31: こども・教育
B32: 事業対象 | P32: 対象地域 | Y32: 事業実施期間 | AA32: =様式1!I21 -> 0 | AD32: ～ | AE32: =様式1!N21 -> 0 | AR32: 22 | AT32: 自然・環境
B33: 解決したい地域課題及びその現状＜３０0字程度＞ | AR33: 28 | AT33: 防災・まちづくり
AH34: =LEN(B34) -> 0 | AR34: 29 | AT34: 健康・福祉
B35: 上記の地域課題の解決に向けた事業の概要＜３０0字程度＞ | AT35: 地域協力
AH36: =LEN(B36) -> 0
B37: 事業効果 （※ 事業の効果はどのように県内広域に及ぶか、単一市町村内で行う事業の場合は、事業の効果が他の地域にどのように裨益するのか具体的に記載） ＜３０0字程度＞
AH38: =LEN(B38) -> 0
B39: 事業の発展性 （これまでの取組を踏まえ、事業の自立的な運営や効果的な実施に向けてどのような工夫・改善を行うか具体的に記載）＜300字程度＞
AH40: =LEN(B40) -> 0
...

Sheet 別紙3
B1: ・必ず連絡の取れる電話番号とメールアドレスを記載してください ・本事業以外の目的で利用することはありません ・法人連絡票の記入内容は、審査、選考の対象にはなりません
B2: 別紙3 | D2: 法人連絡票
B4: （１）法人について | AG4: 1 | AH4: 精算払
C5: （ふりがな） | AG5: 2 | AH5: 概算払
C6: 法人名 | I6: =_xlfn.CONCAT(様式1!K11,様式1!O11) -> 特定非営利活動法人〇〇〇〇 | Z6: ←自動入力 | AG6: 3
C7: 法人番号（13桁） | AG7: 4
B8: （２）代表者について | AG8: 5
C9: 代表者役職 | I9: =IF(様式1!M13<>"",様式1!M13,"") | Z9: ←自動入力 | AG9: 6
C10: （ふりがな） | AG10: 7
C11: 代表者氏名 | I11: =IF(様式1!Q13<>"",様式1!Q13,"") | Z11: ←自動入力 | AG11: 8
B12: （３）連絡責任者について（事務局との連絡等の窓口となる方を記載してください） | AG12: 9
C13: （ふりがな） | AG13: 10
C14: 連絡責任者 | AG14: 11
C15: 連絡責任者の役職 | AG15: 12
B16: （４）事務局との連絡に使用する連絡先等
C17: 郵便番号 | I17: 〒 | L17: -
C18: 住所
C19: E-Mail
C20: 電話番号 | L20: - | P20: -
C21: FAX（任意） | L21: - | P21: -
B22: （５）その他
C23: 活動地域
C24: 決算月 | K24: 月
C25: 支払方法の希望
B26: （6）他補助金等の申請・交付状況（本助成事業への申請日時点で他補助金等に申請している又は交付を受けているもの）
B27: １件目 | C27: 申請・交付状況 | O27: ←選択する
C28: 事業期間 | O28: ～
C29: 補助金等の名称
C30: 申請した（する）事業の名称
C31: 他補助金等との優先順位 | W31: ←選択する
C32: 「その他」を選択した場合、その内容
B33: ２件目 | C33: 申請・交付状況 | O33: ←選択する
C34: 事業期間 | O34: ～
C35: 補助金等の名称
C36: 申請した（する）事業の名称
C37: 他補助金等との優先順位 | W37: ←選択する
C38: 「その他」を選択した場合、その内容
B39: ３件目 | C39: 申請・交付状況 | O39: ←選択する
C40: 事業期間 | O40: ～
C41: 補助金等の名称
...

Sheet 別紙4
Q1: =IF(OR(R2<>"",R4<>""),1,"") -> 1 | R1: ↓ エラーチェックb401
R2: =IF(N7="","実施者氏名が未入力","") -> 実施者氏名が未入力
R3: ↓ エラーチェックb402
R4: =IF(R5<>19,"未回答項目がある または 「×」が選択されています","") -> 未回答項目がある または 「×」が選択されています
B5: 別紙4 | R5: =SUM(R10:R77) -> 0
B6: チェックリスト
M7: 実施者氏名
C8: ○ 設問に対し問題がない × 設問に対し問題がある － 該当しない | V8: ○
V9: ×
B10: 1 | E10: チェックリストの作成前に、すべての申請書類を作成し、必要な添付書類を用意した。 | R10: =IF(OR(C10="○",C10="－"),1,0) -> 0 | V10: －
B12: 2 | E12: 応募締切に間に合わない場合、いかなる理由でも受付できないことについて了承した。 | R12: =IF(OR(C12="○",C12="－"),1,0) -> 0
B14: 3 | E14: 申請に必要な書類の不足、記載誤り等の不備がないことを確認した。 | R14: =IF(OR(C14="○",C14="－"),1,0) -> 0
B16: 4 | E16: 書類の不足、記載誤り、応募資格の欠如等、申請内容に不備等がある場合には、審査されない可能性があることを了承した。 | R16: =IF(OR(C16="○",C16="－"),1,0) -> 0
B18: 5 | E18: 募集要項に記載されている注意事項等をすべて確認し、了承した。 | R18: =IF(OR(C18="○",C18="－"),1,0) -> 0
B20: 6 | E20: 募集要項に定める応募資格がある。 | R20: =IF(OR(C20="○",C20="－"),1,0) -> 0
F21: ■申請日現在、設立登記が完了している。
F22: ■埼玉県内に登記された事務所を有し、主に県内で活動している。
F23: ■特定非営利活動促進法第29条に規定する書類（事業報告書、活動計算書等）を所定の期間内に所轄庁に提出している。
B25: 7 | E25: 申請する事業は助成対象である。以下の７項目について問題はない。 | R25: =IF(OR(C25="○",C25="－"),1,0) -> 0
F26: ■法人の構成員を主な対象とした事業でないこと。
F27: ■その全部を県外で実施する事業ではないこと。
F28: ■他から委託された事業ではないこと。
F29: ■事業の全ての再委託（委託費のみ計上）でないこと。
F30: ■事業の実施運営に係る業務を委託していないこと。
F31: ■申請する事業に対して、申込時点で他からの助成や補助金を受けていないこと。
F32: ■申請する事業に対して補助金等を受けることが決定したら辞退するなど二重に交付を受けられないこと。
B34: 8 | E34: (様式1)助成金交付申請書は、必要事項をすべて入力し、U列にエラー表示がないことを確認した。 | R34: =IF(OR(C34="○",C34="－"),1,0) -> 0
B36: 9 | E36: 別紙1（事業計画書）は、必要事項をすべて入力した。 | R36: =IF(OR(C36="○",C36="－"),1,0) -> 0
B38: 10 | E38: 別紙2（収支予算書）は、必要事項をすべて入力した。 | R38: =IF(OR(C38="○",C38="－"),1,0) -> 0
E40: 別紙2「収支予算書」は、以下の項目についても確認してください。
D42: 11 | G42: 申請時に計上していない経費項目は、事業開始後に支出が生じても対象経費とできないことについて了承した。 | R42: =IF(OR(F42="○",F42="－"),1,0) -> 0
D44: 12 | G44: 対象外経費は含まれていない。 | R44: =IF(OR(F44="○",F44="－"),1,0) -> 0
D46: 13 | G46: 申請する事業の実施による収入の見込みがある場合には、漏れなく計上している。 | R46: =IF(OR(F46="○",F46="－"),1,0) -> 0
D48: 14 | G48: 旅費交通費、謝金、人件費のいずれかを計上する場合には、以下の項目を満たしている。 | R48: =IF(OR(F48="○",F48="－"),1,0) -> 0
G49: ■法人の支給規程に基づき計上した。
G50: ■法人の支給規程を添付した。
G51: ■対象となる謝金及び人件費は、募集要項で確認し、計上に誤りはない。
D53: 15 | G53: 備品費を計上する場合には、以下の項目を満たしている。 | R53: =IF(OR(F53="○",F53="－"),1,0) -> 0
G54: ■計上額は、助成対象経費の20%以内。
G55: ■金額を証明する書類等を添付した。
...

Sheet 別紙5
N1: =IF(OR(N30<>"",N35<>"",N37<>"",N39<>""),1,"") -> 1
C3: 別紙5
C5: 暴力団排除に関する誓約事項
C7: 当事業者は、助成金の交付を受けるに当たって、また、助成事業の実施期間内及び完了後においては、
C8: 下記のいずれにも該当しないことを誓約します。この誓約が虚偽であり、又はこの誓約に反したことに
C9: より、当方が不利益を被ることとなっても、異議は一切申し立てません。
C10: 記
C12: （１）法人等（個人、法人又は団体をいう。）が、暴力団（埼玉県暴力団排除条例（平成23 年埼玉県条
C13: 例第39 号）第２条第１号に規定する暴力団をいう。以下同じ。）であるとき又は法人等の役員等（個人
C14: である場合はその者、法人である場合は役員、団体である場合は代表者、理事等、その他経営に実質的
C15: に関与している者をいう。以下同じ。）が、暴力団員（同条例第２条第２号に規定する暴力団員をいう。
C16: 以下同じ。）であるとき。
C17: （２）役員等が、自己、自社若しくは第三者の不正の利益を図る目的又は第三者に損害を加える目的を
... C28: 約等の解除を求め、法人等がこれに従わなかったと認められるとき。
H30: =様式1!P6 -> 0
C33: 埼玉県知事 宛
N34: ↓ エラーチェックb502
C35: 所在地： | M35: ← 郵便番号は不要 | N35: =IF(D35="","所在地が未入力","") -> 所在地が未入力
N36: ↓ エラーチェックb503
C37: 事業者名： | N37: =IF(D37="","事業者名が未入力","") -> 事業者名が未入力
N38: ↓ エラーチェックb504
C39: 代表者職・氏名： | F39: ・ | M39: ←代表者職名と氏名は セルを分けて記載する | N39: =IF(OR(D39="",G39=""),"代表者職名または氏名が未入力","") -> 代表者職名または氏名が未入力

Sheet 別紙6
B1: 【注意事項】 ・複数の高額品の購入を計画している場合も、１枚にまとめて記載してください。
B2: 別紙6
B4: 高額品購入に関する説明書
F6: 法人名 | G6: =_xlfn.CONCAT(様式1!K11," ",様式1!O11) -> 特定非営利活動法人 〇〇〇〇
F7: 事業名 | G7: =IF(様式1!E32<>"",様式1!E32,"")
C9: 1.購入する備品名
C14: 2.購入が必要である理由
C36: 3.事業終了後の使用に関する説明

Sheet 参照
A1: 年度 | B1: 令和8 | H1: SDGs17の目標 | L1: ---選択肢から当てはまるものを選ぶ---
I2: 1 | J2: 貧困をなくそう | L2: =_xlfn.CONCAT(I2," ",J2) -> 1 貧困をなくそう
A3: 事業期間 | B3: 46204 | C3: =TEXT(B3,"(aaa)") -> (水) | D3: から | I3: 2 | J3: 飢餓をゼロに | L3: =_xlfn.CONCAT(I3," ",J3) -> 2 飢餓をゼロに
B4: 46446 | C4: =TEXT(B4,"(aaa)") -> (日) | D4: まで | I4: 3 | J4: すべての人に健康と福祉を | L4: =_xlfn.CONCAT(I4," ",J4) -> 3 すべての人に健康と福祉を
I5: 4 | J5: 質の高い教育をみんなに | L5: =_xlfn.CONCAT(I5," ",J5) -> 4 質の高い教育をみんなに
A6: 募集期間 | B6: 46111 | C6: =TEXT(B6,"(aaa)") -> (月) | D6: から | E6: =B6 -> 46111 | F6: =VALUE(E6) -> 46111 | I6: 5 | J6: ジェンダー平等を実現しよう | L6: =_xlfn.CONCAT(I6," ",J6) -> 5 ジェンダー平等を実現しよう
B7: 46142 | C7: =TEXT(B7,"(aaa)") -> (木) | D7: まで | E7: =B7 -> 46142 | F7: =VALUE(E7) -> 46142 | I7: 6 | J7: 安全な水とトイレを世界中に | L7: =_xlfn.CONCAT(I7," ",J7) -> 6 安全な水とトイレを世界中に
I8: 7 | J8: エネルギーをみんなにそしてクリーンに | L8: =_xlfn.CONCAT(I8," ",J8) -> 7 エネルギーをみんなにそしてクリーンに
A9: 5年未満 | B9: 44317 | C9: =TEXT(B9,"(aaa)") -> (土) | D9: 以降に設立 | I9: 8 | J9: 働きがいも経済成長も | L9: =_xlfn.CONCAT(I9," ",J9) -> 8 働きがいも経済成長も
I10: 9 | J10: 産業と技術革新の基盤をつくろう | L10: =_xlfn.CONCAT(I10," ",J10) -> 9 産業と技術革新の基盤をつくろう
A11: 補助率 | B11: 0.5 | I11: 10 | J11: 人や国の不平等をなくそう | L11: =_xlfn.CONCAT(I11," ",J11) -> 10 人や国の不平等をなくそう
B12: 1 | I12: 11 | J12: 住み続けられるまちづくりを | L12: =_xlfn.CONCAT(I12," ",J12) -> 11 住み続けられるまちづくりを
I13: 12 | J13: つくる責任つかう責任 | L13: =_xlfn.CONCAT(I13," ",J13) -> 12 つくる責任つかう責任
A14: 5年未満判定 | B14: =B9 -> 44317 | C14: 5年未満の基準日（B9に入力したもの） | I14: 13 | J14: 気候変動に具体的な対策を | L14: =_xlfn.CONCAT(I14," ",J14) -> 13 気候変動に具体的な対策を
B15: =_xlfn.CONCAT(別紙1・2!J5,別紙1・2!M5) | C15: 法人連絡票に入力した設立日「西暦年＋月」 | I15: 14 | J15: 海の豊かさを守ろう | L15: =_xlfn.CONCAT(I15," ",J15) -> 14 海の豊かさを守ろう
B16: =別紙1・2!P5 -> 0 | C16: 法人連絡票に入力した設立日「日」 | I16: 15 | J16: 陸の豊かさも守ろう | L16: =_xlfn.CONCAT(I16," ",J16) -> 15 陸の豊かさも守ろう
B17: =VALUE(B15) -> #VALUE! | C17: 文字列に変換 | I17: 16 | J17: 平和と公正をすべての人に | L17: =_xlfn.CONCAT(I17," ",J17) -> 16 平和と公正をすべての人に
B18: =B16+1 -> 1 | C18: vlookupで検索する列番号 | I18: 17 | J18: パートナーシップで目標を達成しよう | L18: =_xlfn.CONCAT(I18," ",J18) -> 17 パートナーシップで目標を達成しよう
B19: =VLOOKUP(B17,'3年以内判定'!A3:AF386,B18,FALSE) -> #VALUE! | C19: 法人の設立日（文字列から日付データに変換）
A21: 該当判定 | B21: =IF(B19>(B14-1),"該当","該当なし") -> #VALUE!
B23: =様式1!E33 -> 0 | C23: 希望する事業（両方の場合は補助率の高い自立促進） | J23: =様式1!E33 -> 0
A24: 補助率 | B24: =_xlfn.IFS(AND(B23="パートナーシップ支援事業"),B11,AND(B23="ステップアップ支援事業"),B12,B23="スタートアップ支援事業",B12) -> #N/A | C24: 高い方で設定（SDGsで3年未満は1.0/3年以上は0.9/自立促進は1.0） | J24: =_xlfn.IFS(AND(J23="パートナーシップ支援事業"),J26,AND(J23="ステップアップ支援事業"),J27,J23="スタートアップ支援事業",J28) -> #N/A
A26: 決算月 | B26: 1月 | J26: =IF(ROUNDDOWN((別紙1・2!T153-別紙1・2!T149-別紙1・2!T143)*参照!B24,-3)>1000001,1000000,ROUNDDOWN((別紙1・2!T153-別紙1・2!T149-別紙1・2!T143)*参照!B24,-3)) -> #N/A
B27: 2月 | J27: =IF(ROUNDDOWN((別紙1・2!T153-別紙1・2!T149-別紙1・2!T143)*参照!B24,-3)>500001,500000,ROUNDDOWN((別紙1・2!T153-別紙1・2!T149-別紙1・2!T143)*参照!B24,-3)) -> #N/A
B28: 3月 | J28: =IF(ROUNDDOWN((別紙1・2!T153-別紙1・2!T149-別紙1・2!T143)*参照!B24,-3)>300001,300000,ROUNDDOWN((別紙1・2!T153-別紙1・2!T149-別紙1・2!T143)*参照!B24,-3)) -> #N/A
B29: 4月
B30: 5月
B31: 6月
B32: 7月
B33: 8月
B34: 9月
B35: 10月
B36: 11月
B37: 12月
A39: 支払方法 | B39: 精算払
B40: 概算払
A43: 他補助金 | B43: 交付決定
B44: 申請中
B45: 申請予定
B46: NPO活動促進助成事業の交付が決定したら、他補助金等を辞退する
...

Sheet 3年以内判定
B2: 1 | C2: 2 | D2: 3 | E2: 4 | F2: 5 | G2: 6 | H2: 7 | I2: 8 | J2: 9 | K2: 10 | L2: 11 | M2: 12 | N2: 13 | O2: 14 | P2: 15 | Q2: 16 | R2: 17 | S2: 18 | T2: 19 | U2: 20 | V2: 21 | W2: 22 | X2: 23 | Y2: 24 | Z2: 25 | AA2: 26 | AB2: 27 | AC2: 28 | AD2: 29 | AE2: 30 | AF2: 31
A3: 19941 | B3: 34335 | C3: =B3+1 -> 34336 | D3: =C3+1 -> 34337 | E3: =D3+1 -> 34338 | F3: =E3+1 -> 34339 | G3: =F3+1 -> 34340 | H3: =G3+1 -> 34341 | I3: =H3+1 -> 34342 | J3: =I3+1 -> 34343 | ... AF3: =AE3+1 -> 34365
A4: =A3+1 -> 19942 | B4: =AF3+1 -> 34366 | C4: =B4+1 -> 34367 | D4: =C4+1 -> 34368 | E4: =D4+1 -> 34369 | F4: =E4+1 -> 34370 | G4: =F4+1 -> 34371 | H4: =G4+1 -> 34372 | I4: =H4+1 -> 34373 | J4: =I4+1 -> 34374 | ... AC4: =AB4+1 -> 34393
A5: =A4+1 -> 19943 | B5: =AC4+1 -> 34394 | C5: =B5+1 -> 34395 | D5: =C5+1 -> 34396 | E5: =D5+1 -> 34397 | F5: =E5+1 -> 34398 | G5: =F5+1 -> 34399 | H5: =G5+1 -> 34400 | I5: =H5+1 -> 34401 | J5: =I5+1 -> 34402 | ... AF5: =AE5+1 -> 34424
A6: =A5+1 -> 19944 | B6: =AF5+1 -> 34425 | C6: =B6+1 -> 34426 | D6: =C6+1 -> 34427 | E6: =D6+1 -> 34428 | F6: =E6+1 -> 34429 | G6: =F6+1 -> 34430 | H6: =G6+1 -> 34431 | I6: =H6+1 -> 34432 | J6: =I6+1 -> 34433 | ... AE6: =AD6+1 -> 34454
A7: =A6+1 -> 19945 | B7: =AE6+1 -> 34455 | C7: =B7+1 -> 34456 | D7: =C7+1 -> 34457 | E7: =D7+1 -> 34458 | F7: =E7+1 -> 34459 | G7: =F7+1 -> 34460 | H7: =G7+1 -> 34461 | I7: =H7+1 -> 34462 | J7: =I7+1 -> 34463 | ... AF7: =AE7+1 -> 34485
A8: =A7+1 -> 19946 | B8: =AF7+1 -> 34486 | C8: =B8+1 -> 34487 | D8: =C8+1 -> 34488 | E8: =D8+1 -> 34489 | F8: =E8+1 -> 34490 | G8: =F8+1 -> 34491 | H8: =G8+1 -> 34492 | I8: =H8+1 -> 34493 | J8: =I8+1 -> 34494 | ... AE8: =AD8+1 -> 34515
A9: =A8+1 -> 19947 | B9: =AE8+1 -> 34516 | C9: =B9+1 -> 34517 | D9: =C9+1 -> 34518 | E9: =D9+1 -> 34519 | F9: =E9+1 -> 34520 | G9: =F9+1 -> 34521 | H9: =G9+1 -> 34522 | I9: =H9+1 -> 34523 | J9: =I9+1 -> 34524 | ... AF9: =AE9+1 -> 34546
A10: =A9+1 -> 19948 | B10: =AF9+1 -> 34547 | C10: =B10+1 -> 34548 | D10: =C10+1 -> 34549 | E10: =D10+1 -> 34550 | F10: =E10+1 -> 34551 | G10: =F10+1 -> 34552 | H10: =G10+1 -> 34553 | I10: =H10+1 -> 34554 | J10: =I10+1 -> 34555 | ... AF10: =AE10+1 -> 34577
A11: =A10+1 -> 19949 | B11: =AF10+1 -> 34578 | C11: =B11+1 -> 34579 | D11: =C11+1 -> 34580 | E11: =D11+1 -> 34581 | F11: =E11+1 -> 34582 | G11: =F11+1 -> 34583 | H11: =G11+1 -> 34584 | I11: =H11+1 -> 34585 | J11: =I11+1 -> 34586 | ... AE11: =AD11+1 -> 34607
A12: 199410 | B12: =AE11+1 -> 34608 | C12: =B12+1 -> 34609 | D12: =C12+1 -> 34610 | E12: =D12+1 -> 34611 | F12: =E12+1 -> 34612 | G12: =F12+1 -> 34613 | H12: =G12+1 -> 34614 | I12: =H12+1 -> 34615 | J12: =I12+1 -> 34616 | ... AF12: =AE12+1 -> 34638
A13: 199411 | B13: =AF12+1 -> 34639 | C13: =B13+1 -> 34640 | D13: =C13+1 -> 34641 | E13: =D13+1 -> 34642 | F13: =E13+1 -> 34643 | G13: =F13+1 -> 34644 | H13: =G13+1 -> 34645 | I13: =H13+1 -> 34646 | J13: =I13+1 -> 34647 | ... AE13: =AD13+1 -> 34668
A14: 199412 | B14: =AE13+1 -> 34669 | C14: =B14+1 -> 34670 | D14: =C14+1 -> 34671 | E14: =D14+1 -> 34672 | F14: =E14+1 -> 34673 | G14: =F14+1 -> 34674 | H14: =G14+1 -> 34675 | I14: =H14+1 -> 34676 | J14: =I14+1 -> 34677 | ... AF14: =AE14+1 -> 34699
A15: =A3+10 -> 19951 | B15: 34700 | C15: =B15+1 -> 34701 | D15: =C15+1 -> 34702 | E15: =D15+1 -> 34703 | F15: =E15+1 -> 34704 | G15: =F15+1 -> 34705 | H15: =G15+1 -> 34706 | I15: =H15+1 -> 34707 | J15: =I15+1 -> 34708 | ... AF15: =AE15+1 -> 34730
A16: =A4+10 -> 19952 | B16: =AF15+1 -> 34731 | C16: =B16+1 -> 34732 | D16: =C16+1 -> 34733 | E16: =D16+1 -> 34734 | F16: =E16+1 -> 34735 | G16: =F16+1 -> 34736 | H16: =G16+1 -> 34737 | I16: =H16+1 -> 34738 | J16: =I16+1 -> 34739 | ... AC16: =AB16+1 -> 34758
A17: =A5+10 -> 19953 | B17: =AC16+1 -> 34759 | C17: =B17+1 -> 34760 | D17: =C17+1 -> 34761 | E17: =D17+1 -> 34762 | F17: =E17+1 -> 34763 | G17: =F17+1 -> 34764 | H17: =G17+1 -> 34765 | I17: =H17+1 -> 34766 | J17: =I17+1 -> 34767 | ... AF17: =AE17+1 -> 34789
A18: =A6+10 -> 19954 | B18: =AF17+1 -> 34790 | C18: =B18+1 -> 34791 | D18: =C18+1 -> 34792 | E18: =D18+1 -> 34793 | F18: =E18+1 -> 34794 | G18: =F18+1 -> 34795 | H18: =G18+1 -> 34796 | I18: =H18+1 -> 34797 | J18: =I18+1 -> 34798 | ... AE18: =AD18+1 -> 34819
A19: =A7+10 -> 19955 | B19: =AE18+1 -> 34820 | C19: =B19+1 -> 34821 | D19: =C19+1 -> 34822 | E19: =D19+1 -> 34823 | F19: =E19+1 -> 34824 | G19: =F19+1 -> 34825 | H19: =G19+1 -> 34826 | I19: =H19+1 -> 34827 | J19: =I19+1 -> 34828 | ... AF19: =AE19+1 -> 34850
A20: =A8+10 -> 19956 | B20: =AF19+1 -> 34851 | C20: =B20+1 -> 34852 | D20: =C20+1 -> 34853 | E20: =D20+1 -> 34854 | F20: =E20+1 -> 34855 | G20: =F20+1 -> 34856 | H20: =G20+1 -> 34857 | I20: =H20+1 -> 34858 | J20: =I20+1 -> 34859 | ... AE20: =AD20+1 -> 34880
A21: =A9+10 -> 19957 | B21: =AE20+1 -> 34881 | C21: =B21+1 -> 34882 | D21: =C21+1 -> 34883 | E21: =D21+1 -> 34884 | F21: =E21+1 -> 34885 | G21: =F21+1 -> 34886 | H21: =G21+1 -> 34887 | I21: =H21+1 -> 34888 | J21: =I21+1 -> 34889 | ... AF21: =AE21+1 -> 34911
A22: =A10+10 -> 19958 | B22: =AF21+1 -> 34912 | C22: =B22+1 -> 34913 | D22: =C22+1 -> 34914 | E22: =D22+1 -> 34915 | F22: =E22+1 -> 34916 | G22: =F22+1 -> 34917 | H22: =G22+1 -> 34918 | I22: =H22+1 -> 34919 | J22: =I22+1 -> 34920 | ... AF22: =AE22+1 -> 34942
A23: =A11+10 -> 19959 | B23: =AF22+1 -> 34943 | C23: =B23+1 -> 34944 | D23: =C23+1 -> 34945 | E23: =D23+1 -> 34946 | F23: =E23+1 -> 34947 | G23: =F23+1 -> 34948 | H23: =G23+1 -> 34949 | I23: =H23+1 -> 34950 | J23: =I23+1 -> 34951 | ... AE23: =AD23+1 -> 34972
A24: =A12+100 -> 199510 | B24: =AE23+1 -> 34973 | C24: =B24+1 -> 34974 | D24: =C24+1 -> 34975 | E24: =D24+1 -> 34976 | F24: =E24+1 -> 34977 | G24: =F24+1 -> 34978 | H24: =G24+1 -> 34979 | I24: =H24+1 -> 34980 | J24: =I24+1 -> 34981 | ... AF24: =AE24+1 -> 35003
A25: =A13+100 -> 199511 | B25: =AF24+1 -> 35004 | C25: =B25+1 -> 35005 | D25: =C25+1 -> 35006 | E25: =D25+1 -> 35007 | F25: =E25+1 -> 35008 | G25: =F25+1 -> 35009 | H25: =G25+1 -> 35010 | I25: =H25+1 -> 35011 | J25: =I25+1 -> 35012 | ... AE25: =AD25+1 -> 35033
A26: =A14+100 -> 199512 | B26: =AE25+1 -> 35034 | C26: =B26+1 -> 35035 | D26: =C26+1 -> 35036 | E26: =D26+1 -> 35037 | F26: =E26+1 -> 35038 | G26: =F26+1 -> 35039 | H26: =G26+1 -> 35040 | I26: =H26+1 -> 35041 | J26: =I26+1 -> 35042 | ... AF26: =AE26+1 -> 35064
A27: =A15+10 -> 19961 | B27: 35065 | C27: =B27+1 -> 35066 | D27: =C27+1 -> 35067 | E27: =D27+1 -> 35068 | F27: =E27+1 -> 35069 | G27: =F27+1 -> 35070 | H27: =G27+1 -> 35071 | I27: =H27+1 -> 35072 | J27: =I27+1 -> 35073 | ... AF27: =AE27+1 -> 35095
A28: =A16+10 -> 19962 | B28: =AF27+1 -> 35096 | C28: =B28+1 -> 35097 | D28: =C28+1 -> 35098 | E28: =D28+1 -> 35099 | F28: =E28+1 -> 35100 | G28: =F28+1 -> 35101 | H28: =G28+1 -> 35102 | I28: =H28+1 -> 35103 | J28: =I28+1 -> 35104 | ... AD28: =AC28+1 -> 35124
A29: =A17+10 -> 19963 | B29: =AD28+1 -> 35125 | C29: =B29+1 -> 35126 | D29: =C29+1 -> 35127 | E29: =D29+1 -> 35128 | F29: =E29+1 -> 35129 | G29: =F29+1 -> 35130 | H29: =G29+1 -> 35131 | I29: =H29+1 -> 35132 | J29: =I29+1 -> 35133 | ... AF29: =AE29+1 -> 35155
A30: =A18+10 -> 19964 | B30: =AF29+1 -> 35156 | C30: =B30+1 -> 35157 | D30: =C30+1 -> 35158 | E30: =D30+1 -> 35159 | F30: =E30+1 -> 35160 | G30: =F30+1 -> 35161 | H30: =G30+1 -> 35162 | I30: =H30+1 -> 35163 | J30: =I30+1 -> 35164 | ... AE30: =AD30+1 -> 35185
A31: =A19+10 -> 19965 | B31: =AE30+1 -> 35186 | C31: =B31+1 -> 35187 | D31: =C31+1 -> 35188 | E31: =D31+1 -> 35189 | F31: =E31+1 -> 35190 | G31: =F31+1 -> 35191 | H31: =G31+1 -> 35192 | I31: =H31+1 -> 35193 | J31: =I31+1 -> 35194 | ... AF31: =AE31+1 -> 35216
A32: =A20+10 -> 19966 | B32: =AF31+1 -> 35217 | C32: =B32+1 -> 35218 | D32: =C32+1 -> 35219 | E32: =D32+1 -> 35220 | F32: =E32+1 -> 35221 | G32: =F32+1 -> 35222 | H32: =G32+1 -> 35223 | I32: =H32+1 -> 35224 | J32: =I32+1 -> 35225 | ... AE32: =AD32+1 -> 35246
A33: =A21+10 -> 19967 | B33: =AE32+1 -> 35247 | C33: =B33+1 -> 35248 | D33: =C33+1 -> 35249 | E33: =D33+1 -> 35250 | F33: =E33+1 -> 35251 | G33: =F33+1 -> 35252 | H33: =G33+1 -> 35253 | I33: =H33+1 -> 35254 | J33: =I33+1 -> 35255 | ... AF33: =AE33+1 -> 35277
A34: =A22+10 -> 19968 | B34: =AF33+1 -> 35278 | C34: =B34+1 -> 35279 | D34: =C34+1 -> 35280 | E34: =D34+1 -> 35281 | F34: =E34+1 -> 35282 | G34: =F34+1 -> 35283 | H34: =G34+1 -> 35284 | I34: =H34+1 -> 35285 | J34: =I34+1 -> 35286 | ... AF34: =AE34+1 -> 35308
A35: =A23+10 -> 19969 | B35: =AF34+1 -> 35309 | C35: =B35+1 -> 35310 | D35: =C35+1 -> 35311 | E35: =D35+1 -> 35312 | F35: =E35+1 -> 35313 | G35: =F35+1 -> 35314 | H35: =G35+1 -> 35315 | I35: =H35+1 -> 35316 | J35: =I35+1 -> 35317 | ... AE35: =AD35+1 -> 35338
A36: =A24+100 -> 199610 | B36: =AE35+1 -> 35339 | C36: =B36+1 -> 35340 | D36: =C36+1 -> 35341 | E36: =D36+1 -> 35342 | F36: =E36+1 -> 35343 | G36: =F36+1 -> 35344 | H36: =G36+1 -> 35345 | I36: =H36+1 -> 35346 | J36: =I36+1 -> 35347 | ... AF36: =AE36+1 -> 35369
A37: =A25+100 -> 199611 | B37: =AF36+1 -> 35370 | C37: =B37+1 -> 35371 | D37: =C37+1 -> 35372 | E37: =D37+1 -> 35373 | F37: =E37+1 -> 35374 | G37: =F37+1 -> 35375 | H37: =G37+1 -> 35376 | I37: =H37+1 -> 35377 | J37: =I37+1 -> 35378 | ... AE37: =AD37+1 -> 35399
A38: =A26+100 -> 199612 | B38: =AE37+1 -> 35400 | C38: =B38+1 -> 35401 | D38: =C38+1 -> 35402 | E38: =D38+1 -> 35403 | F38: =E38+1 -> 35404 | G38: =F38+1 -> 35405 | H38: =G38+1 -> 35406 | I38: =H38+1 -> 35407 | J38: =I38+1 -> 35408 | ... AF38: =AE38+1 -> 35430
A39: =A27+10 -> 19971 | B39: 35431 | C39: =B39+1 -> 35432 | D39: =C39+1 -> 35433 | E39: =D39+1 -> 35434 | F39: =E39+1 -> 35435 | G39: =F39+1 -> 35436 | H39: =G39+1 -> 35437 | I39: =H39+1 -> 35438 | J39: =I39+1 -> 35439 | ... AF39: =AE39+1 -> 35461
A40: =A28+10 -> 19972 | B40: =AF39+1 -> 35462 | C40: =B40+1 -> 35463 | D40: =C40+1 -> 35464 | E40: =D40+1 -> 35465 | F40: =E40+1 -> 35466 | G40: =F40+1 -> 35467 | H40: =G40+1 -> 35468 | I40: =H40+1 -> 35469 | J40: =I40+1 -> 35470 | ... AC40: =AB40+1 -> 35489
A41: =A29+10 -> 19973 | B41: =AC40+1 -> 35490 | C41: =B41+1 -> 35491 | D41: =C41+1 -> 35492 | E41: =D41+1 -> 35493 | F41: =E41+1 -> 35494 | G41: =F41+1 -> 35495 | H41: =G41+1 -> 35496 | I41: =H41+1 -> 35497 | J41: =I41+1 -> 35498 | ... AF41: =AE41+1 -> 35520
...

Sheet 事務局1
A1: 1 | B1: 2 | C1: 3 | D1: 4 | E1: 5 | F1: 6 | G1: 7 | H1: 8 | I1: 9 | J1: 10 | K1: 11 | L1: 12 | M1: 13 | N1: 14 | O1: 15 | P1: 16 | Q1: 17 | R1: 18 | S1: 19 | T1: 20 | U1: 21 | V1: 22 | W1: 23 | X1: 24 | Y1: 25 | Z1: 26 | AA1: 27 | AB1: 28 | AC1: 29 | AD1: 30 | AE1: 31 | AF1: 32 | AG1: 33 | AH1: 34 | AI1: 35 | AJ1: 36 | AK1: 37 | AL1: 38 | AM1: 39 | AN1: 40 | AO1: 41 | AP1: 42 | AQ1: 43 | AR1: 44 | AS1: 45 | AT1: 46 | AU1: 47 | AV1: 48 | AW1: 49 | AX1: 50 | AY1: 51 | AZ1: 52 | BA1: 53 | BB1: 54 | BC1: 55 | BD1: 56 | BE1: 57 | BF1: 58
C2: =_xlfn.CONCAT(様式1!K11,様式1!O11) -> 特定非営利活動法人〇〇〇〇 | D2: =様式1!O11 -> 〇〇〇〇 | F2: =_xlfn.CONCAT(別紙3!I24,"月") -> 月 | P2: =参照!B19 -> #VALUE! | Q2: =様式1!M13 -> 0 | R2: =様式1!Q13 -> 0 | S2: =別紙3!I5 -> 0 | T2: =別紙3!I15 -> 0 | U2: =別紙3!I14 -> 0 | V2: =別紙3!I13 -> 0 | W2: =_xlfn.CONCAT(別紙3!J17,別紙3!L17,別紙3!M17) -> - | X2: =別紙3!I18 -> 0 | Y2: =_xlfn.CONCAT(別紙3!I20,別紙3!L20,別紙3!M20,別紙3!P20,別紙3!Q20) -> -- | Z2: =_xlfn.CONCAT(別紙3!I21,別紙3!L21,別紙3!M21,別紙3!P21,別紙3!Q21) -> -- | AA2: =別紙3!I19 -> 0 | AD2: =様式1!E32 -> 0 | AE2: =IF(様式1!#REF!="○","SDGs","") -> #REF! | AF2: =IF(様式1!#REF!="○","自立","") -> #REF! | AG2: =様式1!E34 -> 0 | AH2: =様式1!I20 -> #N/A | AI2: =IF(参照!B21="該当","○","") -> #VALUE! | AJ2: =IF(参照!B21="該当",1,0.9) -> #VALUE! | AK2: 1 | AL2: =別紙3!I25 -> 0 | AM2: =様式1!I21 -> 0 | AN2: ～ | AO2: =様式1!N21 -> 0 | AP2: =IF(OR(別紙1・2!#REF!="1 ",別紙1・2!#REF!="1 ",別紙1・2!#REF!="1 "),"○","") -> #REF! | AQ2: =IF(OR(別紙1・2!#REF!="2 ",別紙1・2!#REF!="2 ",別紙1・2!#REF!="2 "),"○","") -> #REF! | AR2: =IF(OR(別紙1・2!#REF!="3 ",別紙1・2!#REF!="3 ",別紙1・2!#REF!="3 "),"○","") -> #REF! | AS2: =IF(OR(別紙1・2!#REF!="4 ",別紙1・2!#REF!="4 ",別紙1・2!#REF!="4 "),"○","") -> #REF! | AT2: =IF(OR(別紙1・2!#REF!="5 ",別紙1・2!#REF!="5 ",別紙1・2!#REF!="5 "),"○","") -> #REF! | AU2: =IF(OR(別紙1・2!#REF!="6 ",別紙1・2!#REF!="6 ",別紙1・2!#REF!="6 "),"○","") -> #REF! | AV2: =IF(OR(別紙1・2!#REF!="7 ",別紙1・2!#REF!="7 ",別紙1・2!#REF!="7 "),"○","") -> #REF! | AW2: =IF(OR(別紙1・2!#REF!="8 ",別紙1・2!#REF!="8 ",別紙1・2!#REF!="8 "),"○","") -> #REF! | AX2: =IF(OR(別紙1・2!#REF!="9 ",別紙1・2!#REF!="9 ",別紙1・2!#REF!="9 "),"○","") -> #REF! | AY2: =IF(OR(別紙1・2!#REF!="10",別紙1・2!#REF!="10",別紙1・2!#REF!="10"),"○","") -> #REF! | AZ2: =IF(OR(別紙1・2!#REF!="11",別紙1・2!#REF!="11",別紙1・2!#REF!="11"),"○","") -> #REF! | BA2: =IF(OR(別紙1・2!#REF!="12",別紙1・2!#REF!="12",別紙1・2!#REF!="12"),"○","") -> #REF! | BB2: =IF(OR(別紙1・2!#REF!="13",別紙1・2!#REF!="13",別紙1・2!#REF!="13"),"○","") -> #REF! | BC2: =IF(OR(別紙1・2!#REF!="14",別紙1・2!#REF!="14",別紙1・2!#REF!="14"),"○","") -> #REF! | BD2: =IF(OR(別紙1・2!#REF!="15",別紙1・2!#REF!="15",別紙1・2!#REF!="15"),"○","") -> #REF! | BE2: =IF(OR(別紙1・2!#REF!="16",別紙1・2!#REF!="16",別紙1・2!#REF!="16"),"○","") -> #REF! | BF2: =IF(OR(別紙1・2!#REF!="17",別紙1・2!#REF!="17",別紙1・2!#REF!="17"),"○","") -> #REF!
